BEGIN:VCALENDAR
VERSION:2.0
PRODID:-//Käte Hamburger Kolleg: Cultures of Research (c:o/re) - ECPv6.15.20//NONSGML v1.0//EN
CALSCALE:GREGORIAN
METHOD:PUBLISH
X-WR-CALNAME:Käte Hamburger Kolleg: Cultures of Research (c:o/re)
X-ORIGINAL-URL:https://khk.rwth-aachen.de
X-WR-CALDESC:Events for Käte Hamburger Kolleg: Cultures of Research (c:o/re)
REFRESH-INTERVAL;VALUE=DURATION:PT1H
X-Robots-Tag:noindex
X-PUBLISHED-TTL:PT1H
BEGIN:VTIMEZONE
TZID:Europe/Helsinki
BEGIN:DAYLIGHT
TZOFFSETFROM:+0200
TZOFFSETTO:+0300
TZNAME:EEST
DTSTART:20210328T010000
END:DAYLIGHT
BEGIN:STANDARD
TZOFFSETFROM:+0300
TZOFFSETTO:+0200
TZNAME:EET
DTSTART:20211031T010000
END:STANDARD
BEGIN:DAYLIGHT
TZOFFSETFROM:+0200
TZOFFSETTO:+0300
TZNAME:EEST
DTSTART:20220327T010000
END:DAYLIGHT
BEGIN:STANDARD
TZOFFSETFROM:+0300
TZOFFSETTO:+0200
TZNAME:EET
DTSTART:20221030T010000
END:STANDARD
BEGIN:DAYLIGHT
TZOFFSETFROM:+0200
TZOFFSETTO:+0300
TZNAME:EEST
DTSTART:20230326T010000
END:DAYLIGHT
BEGIN:STANDARD
TZOFFSETFROM:+0300
TZOFFSETTO:+0200
TZNAME:EET
DTSTART:20231029T010000
END:STANDARD
END:VTIMEZONE
BEGIN:VEVENT
DTSTART;TZID=Europe/Helsinki:20220406T170000
DTEND;TZID=Europe/Helsinki:20220406T180000
DTSTAMP:20260424T183308
CREATED:20221123T165006Z
LAST-MODIFIED:20260116T105151Z
UID:5040-1649264400-1649268000@khk.rwth-aachen.de
SUMMARY:Scientific Explanations from Machine Learning? (Stefan Buijsman)
DESCRIPTION:Stefan Buijsman is Assistant Professor of Philosophy of Technology at TU Delft\, Netherlands. In his talk\, he will be discussing the issue of obtaining scientific explanations from machine learning models. \nThe talk is part of the c:o/re Lecture Series Cultures of Research – Philosophy of AI_Optimist and Pessimist Views. \n 
URL:https://khk.rwth-aachen.de/event/scientific-explanations-from-machine-learning-stefan-buijsman/
LOCATION:Stadtpalais/Online\, Theaterstraße 75\, Aachen\, 52062\, Germany
CATEGORIES:Lecture Series,Lecture Series 2022
ATTACH;FMTTYPE=image/png:https://khk.rwth-aachen.de/wp-content/uploads/2022/11/Copy-of-CO-RE-1.png
ORGANIZER;CN="c%3Ao/re":MAILTO:events@khk.rwth-aachen.de
END:VEVENT
BEGIN:VEVENT
DTSTART;TZID=Europe/Helsinki:20220413T170000
DTEND;TZID=Europe/Helsinki:20220413T190000
DTSTAMP:20260424T183308
CREATED:20221130T141233Z
LAST-MODIFIED:20260116T105145Z
UID:5087-1649869200-1649876400@khk.rwth-aachen.de
SUMMARY:What is the value-added of being human? The beginning of a conversation (Steve Fuller)
DESCRIPTION:Steve Fuller is c:o/re fellow and Professor of Social Epistemology in the Department of Sociology at the University of Warwick\, England. In his talk\, he will give insight into his work around the future of humanity or a “humanity 2.0”. \nThe talk is part of the c:o/re Lecture Series Cultures of Research – Philosophy of AI_Optimist and Pessimist Views.
URL:https://khk.rwth-aachen.de/event/what-is-the-value-added-of-being-human-the-beginning-of-a-conversation-steve-fuller/
LOCATION:Stadtpalais/Online\, Theaterstraße 75\, Aachen\, 52062\, Germany
CATEGORIES:Lecture Series,Lecture Series 2022
ATTACH;FMTTYPE=image/png:https://khk.rwth-aachen.de/wp-content/uploads/2022/11/Copy-of-CO-RE-1.png
ORGANIZER;CN="c%3Ao/re":MAILTO:events@khk.rwth-aachen.de
END:VEVENT
BEGIN:VEVENT
DTSTART;TZID=Europe/Helsinki:20220420T120000
DTEND;TZID=Europe/Helsinki:20220420T190000
DTSTAMP:20260424T183308
CREATED:20230118T171729Z
LAST-MODIFIED:20260116T105139Z
UID:5608-1650456000-1650481200@khk.rwth-aachen.de
SUMMARY:Interdisciplinary Research in Robotics and AI (Joffrey Becker)
DESCRIPTION:This event is planned by Joffrey Becker as a short workshop that brings together different experts on the topic of Robotics and AI. \nPlease find the program here.
URL:https://khk.rwth-aachen.de/event/interdisciplinary-research-in-robotics-and-ai-joffrey-becker/
LOCATION:Stadtpalais/Online\, Theaterstraße 75\, Aachen\, 52062\, Germany
CATEGORIES:Workshops
ORGANIZER;CN="c%3Ao/re":MAILTO:events@khk.rwth-aachen.de
END:VEVENT
BEGIN:VEVENT
DTSTART;TZID=Europe/Helsinki:20220420T170000
DTEND;TZID=Europe/Helsinki:20220420T190000
DTSTAMP:20260424T183308
CREATED:20221130T142209Z
LAST-MODIFIED:20260116T105132Z
UID:5089-1650474000-1650481200@khk.rwth-aachen.de
SUMMARY:Behavioral Objects\, Agonistic Objects. How and why to design art robotic objects fighting against and for their being conditions? (Samuel Bianchini)
DESCRIPTION:Samuel Bianchini is an artist and associate professor at the École Nationale Supérieure des Arts Décoratifs—Paris (EnsAD) / PSL University Paris. His talk will provide insight into his work on the relationships between the most forward-looking technological “dispositifs”\, modes of representation\, new forms of aesthetic experiences\, and sociopolitical organizations. \nThe talk is part of the c:o/re Lecture Series Cultures of Research – Philosophy of AI_Optimist and Pessimist Views.
URL:https://khk.rwth-aachen.de/event/behavioral-objects-agonistic-objects-how-and-why-to-design-art-robotic-objects-fighting-against-and-for-their-being-conditions-samuel-bianchini/
LOCATION:Stadtpalais/Online\, Theaterstraße 75\, Aachen\, 52062\, Germany
CATEGORIES:Lecture Series,Lecture Series 2022
ATTACH;FMTTYPE=image/png:https://khk.rwth-aachen.de/wp-content/uploads/2022/11/Copy-of-CO-RE-1.png
ORGANIZER;CN="c%3Ao/re":MAILTO:events@khk.rwth-aachen.de
END:VEVENT
BEGIN:VEVENT
DTSTART;TZID=Europe/Helsinki:20220421T100000
DTEND;TZID=Europe/Helsinki:20220421T180000
DTSTAMP:20260424T183308
CREATED:20230118T172207Z
LAST-MODIFIED:20260116T105119Z
UID:5611-1650535200-1650564000@khk.rwth-aachen.de
SUMMARY:Enlightenment Now! (Steve Fuller and Frederik Stjernfelt)
DESCRIPTION:In this seminar\, we would like to draw a line between recent intense research into the intellectual history of the Enlightenment and our present situation. What would Radical Enlightenment mean today? How would a 17-18th century Enlightenment view on our present predicament look like? – given pressing issues of academia today\, the fate of the universities\, the development of AI\, tech\, the new West-East cold war\, populism\, globalization\, post/trans humanism\, the future of humanity? \nBeside talks by c:o/re Fellows Frederik Stjernfelt and Steve Fuller\, the seminar will include contributions by historian Jonathan Israel (Institute of Advanced Study\, Princeton)\, Rens Bod\, professor of Digital Humanities and History of the Humanities (Amsterdam) and scholar of cultural studies Cheryce von Xylander (Lüneburg). \nPlease find the program here.
URL:https://khk.rwth-aachen.de/event/enlightenment-now-steve-fuller-and-frederik-stjernfelt/
LOCATION:Stadtpalais/Online\, Theaterstraße 75\, Aachen\, 52062\, Germany
CATEGORIES:Workshops
ORGANIZER;CN="c%3Ao/re":MAILTO:events@khk.rwth-aachen.de
END:VEVENT
BEGIN:VEVENT
DTSTART;TZID=Europe/Helsinki:20220427T170000
DTEND;TZID=Europe/Helsinki:20220427T190000
DTSTAMP:20260424T183308
CREATED:20221130T142926Z
LAST-MODIFIED:20260116T105113Z
UID:5091-1651078800-1651086000@khk.rwth-aachen.de
SUMMARY:Traffic as a Socio-Technical System: Opportunities for AI (Ana Bazzan)
DESCRIPTION:Ana Bazzan is c:o/re fellow and Professor of Computer Science at the Institute of Informatics and Leader of the Artificial Intelligence Group\, Universidade Federal do Rio Grande do Sul (UFRGS)\, Porto Alegre\, Brazil. Her talk will go into detail on her research surrounding multiagent systems or more recently\, smart cities focussing on transportation. \nThe talk is part of the c:o/re Lecture Series Cultures of Research – Philosophy of AI_Optimist and Pessimist Views.
URL:https://khk.rwth-aachen.de/event/traffic-as-a-socio-technical-system-opportunities-for-ai-ana-bazzan/
LOCATION:Stadtpalais/Online\, Theaterstraße 75\, Aachen\, 52062\, Germany
CATEGORIES:Lecture Series,Lecture Series 2022
ATTACH;FMTTYPE=image/png:https://khk.rwth-aachen.de/wp-content/uploads/2022/11/Copy-of-CO-RE-1.png
ORGANIZER;CN="c%3Ao/re":MAILTO:events@khk.rwth-aachen.de
END:VEVENT
END:VCALENDAR