BEGIN:VCALENDAR
VERSION:2.0
PRODID:-//Käte Hamburger Kolleg: Cultures of Research (c:o/re) - ECPv6.15.20//NONSGML v1.0//EN
CALSCALE:GREGORIAN
METHOD:PUBLISH
X-WR-CALNAME:Käte Hamburger Kolleg: Cultures of Research (c:o/re)
X-ORIGINAL-URL:https://khk.rwth-aachen.de
X-WR-CALDESC:Events for Käte Hamburger Kolleg: Cultures of Research (c:o/re)
REFRESH-INTERVAL;VALUE=DURATION:PT1H
X-Robots-Tag:noindex
X-PUBLISHED-TTL:PT1H
BEGIN:VTIMEZONE
TZID:Europe/Berlin
BEGIN:DAYLIGHT
TZOFFSETFROM:+0100
TZOFFSETTO:+0200
TZNAME:CEST
DTSTART:20240331T010000
END:DAYLIGHT
BEGIN:STANDARD
TZOFFSETFROM:+0200
TZOFFSETTO:+0100
TZNAME:CET
DTSTART:20241027T010000
END:STANDARD
BEGIN:DAYLIGHT
TZOFFSETFROM:+0100
TZOFFSETTO:+0200
TZNAME:CEST
DTSTART:20250330T010000
END:DAYLIGHT
BEGIN:STANDARD
TZOFFSETFROM:+0200
TZOFFSETTO:+0100
TZNAME:CET
DTSTART:20251026T010000
END:STANDARD
BEGIN:DAYLIGHT
TZOFFSETFROM:+0100
TZOFFSETTO:+0200
TZNAME:CEST
DTSTART:20260329T010000
END:DAYLIGHT
BEGIN:STANDARD
TZOFFSETFROM:+0200
TZOFFSETTO:+0100
TZNAME:CET
DTSTART:20261025T010000
END:STANDARD
END:VTIMEZONE
BEGIN:VEVENT
DTSTART;TZID=Europe/Berlin:20250403T090000
DTEND;TZID=Europe/Berlin:20250403T153000
DTSTAMP:20260425T204639
CREATED:20250305T090454Z
LAST-MODIFIED:20260116T100150Z
UID:12551-1743670800-1743694200@khk.rwth-aachen.de
SUMMARY:Workshop "Engaged Social Studies of Modelling"
DESCRIPTION:Modelling and computing are increasingly at the heart of innovation\, governance\, and public policy. Yet\, many modelers remain detached from the social\, ethical\, and political implications of their work\, often viewing these aspects as irrelevant to the success of the model. The flexibility\, variety\, and resistance to falsification\, coupled with their status as authoritative evidence-making technologies\, have also enabled models to distance themselves from public scrutiny and social critique. \nFor years\, historians and philosophers of science\, and researchers in Science and Technology Studies have studied climate\, health\, environment\, and economics models. However\, these insights have often been fragmented\, external to modeling communities\, and disconnected from their everyday concerns and practices\, perpetuating the “two cultures” divide\, famously described by C.P. Snow. \nIn the wake of global experience of modelling COVID-19\, however\, the social and political dimensions of modeling have come into sharper focus within modeling communities themselves\, and the call for more responsible modeling and computing is now gaining momentum. \nThis shift presents an opportunity to bridge these divides. This workshop aims to capitalize on this moment\, as the social critique of modeling is now beginning to catch the attention of the modelling community. We will begin by discussing what social studies of modelling is\, and how it can evolve from an external reflection into a transformative\, engaged research program that works within and alongside modelling communities. \nIf you would like to attend\, please register with: events@khk.rwth-aachen.de \n Program: \n09:00 – 9:30: Welcome & Coffee \n09:30 – 11:00: Opening Discussion: Ehsan Nabavi\, Andrea Saltelli\, Lieke Melsen\, Stefan Böschen\nBrief introductions + initial reflections on ‘social studies of modelling’ (framed by a short draft shared in advance) \n11:00 – 11:15: Coffee Break \n11:15 – 12:45: Roundtable: ‘Engaged social studies of modelling?’ \n12:45 – 14:00: Lunch Break \n14:00 – 15:30: Collaboration and Reflection on Next Steps\nMapping intersections and possibilities for collaborations. Reflections\, next steps\, and possible ways to continue the conversation
URL:https://khk.rwth-aachen.de/event/workshop-engaged-social-studies-of-modelling/
LOCATION:Stadtpalais\, Theaterstraße 75\, Aachen\, 52062\, Germany
CATEGORIES:Workshops
ATTACH;FMTTYPE=image/jpeg:https://khk.rwth-aachen.de/wp-content/uploads/2025/01/RWTH-Grun-100-1280x720-1.jpg
END:VEVENT
END:VCALENDAR